BEGIN:VCALENDAR
VERSION:2.0
CALSCALE:GREGORIAN
PRODID:adamgibbons/ics
METHOD:PUBLISH
X-PUBLISHED-TTL:PT1H
BEGIN:VEVENT
UID:xTHCjbmdcmLTI0n-A5EZG
SUMMARY:15. Zukunftsspaziergang
DTSTAMP:20260414T183006Z
DTSTART:20260701T140000
DTEND:20260701T140000
DESCRIPTION:Auch in diesem Monat wollen wir die Gegend rund um das Natursch
	utzgebieten Ententeich erkunden und uns über die Folgen\, die eine Erweite
	rung des Freizeitparkes mit sich bringen würde\, unterhalten. 
LOCATION:Parkplatz Schnorrenberg\, Euskirchener Straße\, Ecke Nussbaumweg\,
	 Brühl
ORGANIZER;CN="Klimabündnis":
END:VEVENT
END:VCALENDAR
